BEGIN:VCALENDAR
VERSION:2.0
PRODID:-//Foothills Club of Tucson - ECPv6.15.20//NONSGML v1.0//EN
CALSCALE:GREGORIAN
METHOD:PUBLISH
X-ORIGINAL-URL:https://foothillscluboftucson.org
X-WR-CALDESC:Events for Foothills Club of Tucson
REFRESH-INTERVAL;VALUE=DURATION:PT1H
X-Robots-Tag:noindex
X-PUBLISHED-TTL:PT1H
BEGIN:VTIMEZONE
TZID:America/Detroit
BEGIN:DAYLIGHT
TZOFFSETFROM:-0500
TZOFFSETTO:-0400
TZNAME:EDT
DTSTART:20250309T070000
END:DAYLIGHT
BEGIN:STANDARD
TZOFFSETFROM:-0400
TZOFFSETTO:-0500
TZNAME:EST
DTSTART:20251102T060000
END:STANDARD
BEGIN:DAYLIGHT
TZOFFSETFROM:-0500
TZOFFSETTO:-0400
TZNAME:EDT
DTSTART:20260308T070000
END:DAYLIGHT
BEGIN:STANDARD
TZOFFSETFROM:-0400
TZOFFSETTO:-0500
TZNAME:EST
DTSTART:20261101T060000
END:STANDARD
BEGIN:DAYLIGHT
TZOFFSETFROM:-0500
TZOFFSETTO:-0400
TZNAME:EDT
DTSTART:20270314T070000
END:DAYLIGHT
BEGIN:STANDARD
TZOFFSETFROM:-0400
TZOFFSETTO:-0500
TZNAME:EST
DTSTART:20271107T060000
END:STANDARD
BEGIN:DAYLIGHT
TZOFFSETFROM:-0500
TZOFFSETTO:-0400
TZNAME:EDT
DTSTART:20280312T070000
END:DAYLIGHT
BEGIN:STANDARD
TZOFFSETFROM:-0400
TZOFFSETTO:-0500
TZNAME:EST
DTSTART:20281105T060000
END:STANDARD
END:VTIMEZONE
BEGIN:VEVENT
DTSTART;TZID=America/Detroit:20260515T063000
DTEND;TZID=America/Detroit:20260515T170000
DTSTAMP:20260421T172342
CREATED:20250718T003849Z
LAST-MODIFIED:20260213T025506Z
UID:10000389-1778826600-1778864400@foothillscluboftucson.org
SUMMARY:2026 Chunk it for Charity Golf Tournament
DESCRIPTION:GET READY for our 2026 CHUNK IT FOR CHARITY Foothills Club Golf Tournament on Friday\, May 15th\, 2026 at Forty Niner Country Club. We have a great tournament planned for you with all the things that make this event stand out from the others. \nWe have a great tournament planned for you with all the things that make this event stand out from the others. \n⭐Don’t miss out on one of our most popular events — sign up now⭐ \n \n 
URL:https://foothillscluboftucson.org/event/2026-golf-tournament-save-the-date/
LOCATION:Forty Niner Country Club\, 12000 E. Tanque Verde Rd.\, Tucson\, AZ\, 85749\, United States
CATEGORIES:Fundraising Event
ATTACH;FMTTYPE=image/png:https://foothillscluboftucson.org/wp-content/uploads/2025/07/GolfTourneyLogo-no-year.png
END:VEVENT
BEGIN:VEVENT
DTSTART;TZID=America/Detroit:20260612T123000
DTEND;TZID=America/Detroit:20260612T140000
DTSTAMP:20260421T172342
CREATED:20260316T203952Z
LAST-MODIFIED:20260316T203952Z
UID:10000403-1781267400-1781272800@foothillscluboftucson.org
SUMMARY:JUNE 2026 Membership Luncheon & Meeting
DESCRIPTION:Join us for our January Luncheon and Meeting! Let’s eat\, drink\, network and learn about the non-profits we support! \nFriday\, June 12\, 2026  |  12:30pm-2pm \nYOU MUST RSVP BY JUNE 9\, 2026! \nTo stay up to date on FCT events\, follow us on Social Media! \n       \n 
URL:https://foothillscluboftucson.org/event/june-2026-membership-luncheon-meeting/
LOCATION:Sullivan’s Steakhouse\, 1785 E. River Road\, Tucson\, AZ\, 85718\, United States
CATEGORIES:Monthly Membership Meeting
ATTACH;FMTTYPE=image/png:https://foothillscluboftucson.org/wp-content/uploads/2025/08/2-Monthly-Lunch-and-Meeting-e1754932857941.png
END:VEVENT
BEGIN:VEVENT
DTSTART;TZID=America/Detroit:20260617T163000
DTEND;TZID=America/Detroit:20260617T170000
DTSTAMP:20260421T172342
CREATED:20260406T192920Z
LAST-MODIFIED:20260406T192920Z
UID:10000405-1781713800-1781715600@foothillscluboftucson.org
SUMMARY:Sponsor Appreciation Event
DESCRIPTION:Details to Come!
URL:https://foothillscluboftucson.org/event/sponsor-appreciation-event/
END:VEVENT
BEGIN:VEVENT
DTSTART;TZID=America/Detroit:20260926T170000
DTEND;TZID=America/Detroit:20260926T233000
DTSTAMP:20260421T172342
CREATED:20260413T181342Z
LAST-MODIFIED:20260413T185447Z
UID:10000406-1790442000-1790465400@foothillscluboftucson.org
SUMMARY:Rockin' For a Reason Concert
DESCRIPTION:SAVE THE DATE!  More info to come.
URL:https://foothillscluboftucson.org/event/rockin-for-a-reason-concert/
LOCATION:La Rosa\, 800 N Country Club Rd\, Tucson\, AZ\, 85716\, United States
CATEGORIES:Fundraising Event
ATTACH;FMTTYPE=image/png:https://foothillscluboftucson.org/wp-content/uploads/2026/04/SAVE-THE-DATE.png
END:VEVENT
BEGIN:VEVENT
DTSTART;TZID=America/Detroit:20270212T180000
DTEND;TZID=America/Detroit:20270212T230000
DTSTAMP:20260421T172342
CREATED:20260413T185322Z
LAST-MODIFIED:20260413T185429Z
UID:10000407-1802455200-1802473200@foothillscluboftucson.org
SUMMARY:Denim and Diamonds Gala
DESCRIPTION:SAVE THE DATE! \nMore info to come \n 
URL:https://foothillscluboftucson.org/event/denim-and-diamonds-gala/
LOCATION:Casino Del Sol\, 5655 W Valencia Rd\, Tucson\, AZ\, 85757\, United States
CATEGORIES:Fundraising Event
ATTACH;FMTTYPE=image/png:https://foothillscluboftucson.org/wp-content/uploads/2026/04/Gala-Save-the-Date.png
END:VEVENT
END:VCALENDAR